BEGIN:VCALENDAR
VERSION:2.0
PRODID:-//Αντί - ECPv4.8.2//NONSGML v1.0//EN
CALSCALE:GREGORIAN
METHOD:PUBLISH
X-WR-CALNAME:Αντί
X-ORIGINAL-URL:http://periodiko-anti.gr
X-WR-CALDESC:Αντί - Εκδηλώσεις
BEGIN:VEVENT
DTSTART;VALUE=DATE:20110527
DTEND;VALUE=DATE:20110529
DTSTAMP:20260425T013611
CREATED:20151010T112339Z
LAST-MODIFIED:20190324T173305Z
UID:193-1306454400-1306627199@periodiko-anti.gr
SUMMARY:ΑΝΤΙΣΤΑΣΗ ΚΑΙ ΕΝΑΛΛΑΚΤΙΚΗ ΠΡΟΟΠΤΙΚΗ
DESCRIPTION:Το ενδοπανεπιστημιακό Δίκτυο Πολιτικών Ανώτατης Εκπαίδευσης (ΠΑΕ) του Πανεπιστημίου Πατρών στο πλαίσιο των εκδηλώσεών του για το Πανεπιστήμιο\, τη Δημοκρατία και τα Ανθρώπινα Δικαιώματα διοργανώνει διήμερο διεπιστημονικό συνέδριο στην Πάτρα με θέμα: \n«Το περιοδικό Αντί από τη Δικτατορία στη Μεταπολίτευση: Αντίσταση και εναλλακτική προοπτική». \n«Αγορά Αργύρη»\, Παρασκευή\, Σάββατο 27-28 Μαΐου 2011. \nΟμιλητές: \nΝάσος Βαγενάς \nΤάκης Διαμαντής \nΑλέξανδρος Καζαμίας \nΔημήτρης Καργιώτης \nΤάκης Καφετζής \nΜαρίνα Κοτζαμάνη \nΝεκτάριος Λαμπρόπουλος \nΧριστίνα Ντουνιά \nΤζίνα Πολίτη \nΝίκος Φίλης \nΆντεια Φραντζή \nΣοφιανός Χρυσοστομίδης \nΡέα Γαλανάκη \nΔημήτρης Ζουρούδης \nΚώστας Καραβίδας \nΚυριάκος Κατζουράκης \nΡάνια Κλουτσινιώτη \nΠαντελής Κυπριανός \nΖντράβκα Μιχάιλοβα \nΙωάννα Παπαθανασίου \nΌλγα Σελλά \nΓιάννης Φλώρος \nΠάνος Χαραλάμπους \n  \nΕπισυνάπτεται το πρόγραμμα της εκδήλωσης. \nΠρόγραμμα \nΦωτογραφίες \n
URL:http://periodiko-anti.gr/event/periodiko-anti-apo-ti-diktatoria-sti-metapoliteusi/
LOCATION:Πάτρα\, Patras\, Greece
END:VEVENT
END:VCALENDAR