BEGIN:VCALENDAR
VERSION:2.0
PRODID:-//Αντί - ECPv4.8.2//NONSGML v1.0//EN
CALSCALE:GREGORIAN
METHOD:PUBLISH
X-WR-CALNAME:Αντί
X-ORIGINAL-URL:http://periodiko-anti.gr
X-WR-CALDESC:Αντί - Εκδηλώσεις
BEGIN:VEVENT
DTSTART;TZID=UTC+2:20190330T170000
DTEND;TZID=UTC+2:20190330T210000
DTSTAMP:20260424T235638
CREATED:20190317T220457Z
LAST-MODIFIED:20190317T220935Z
UID:513-1553965200-1553979600@periodiko-anti.gr
SUMMARY:ΕΚΔΗΛΩΣΗ ΜΝΗΜΗΣ ΓΙΑ ΤΟΝ ΧΡΗΣΤΟ ΠΑΠΟΥΤΣΑΚΗ
DESCRIPTION:Το Σάββατο\, 30 Μαρτίου 2019\, 5:00 μμ έως 9:00 μμ\, στο αμφιθέατρο της νέας βιβλιοθήκης της Ανώτατης Σχολής Καλών Τεχνών\, λεωφόρος Πειραιώς 256\, θα πραγματοποιηθεί εκδήλωση μνήμης στον Χρήστο Παπουτσάκη\, με αφορμή τα 10 χρόνια από το θάνατό του (8/3/2009).\nΣτο χώρο θα λειτουργήσει παζάρι περιοδικών και τόμων του «Αντί» και βιβλίων των εκδόσεων «Πολύτυπο» του Χ. Παπουτσάκη και των εκδόσεων «των Φίλων του περιοδικού Αντί». Στο τέλος της εκδήλωσης θα πιούμε ένα κρασί στη μνήμη του. \nΑκολουθεί αναλυτικά το πρόγραμμα: \n18:00-19:00 (χαιρετισμός και παρεμβάσεις)\nΧαιρετισμός\n• Πάνος Χαραλάμπους\, εικαστικός\, Πρύτανης ΑΣΚΤ \nΠαρεμβάσεις\n• Κώστας Γαβρόγλου\, Υπουργός Παιδείας\, Έρευνας και Θρησκευμάτων\n• Ηλίας Νικολακόπουλος\, ομότιμος καθηγητής ΕΚΠΑ: «Το ΑΝΤΙ ως εκδοχή της Αριστεράς την περίοδο της μεταπολίτευσης»\n• Γιάννης Ιωάννου\, γελοιογράφος\n• Γιάννης Φλώρος\, δημοσιογράφος: «Xρήστος Παπουτσάκης: Αγωνιστής της δημοκρατίας\, τολμηρός αριστερός\, πρωτοπόρος διανοούμενος»\n• Θανάσης Γάλλος\, δρ Ιστορίας ΕΚΠΑ\, ιστορικός ΑΣΚΙ: «Το αρχείο και το φωτογραφικό αρχείο του περιοδικού Αντί στις συλλογές των ΑΣΚΙ»\n• Ζντράβκα Μιχάιλοβα\, ελληνίστρια-μεταφράστρια λογοτεχνίας:\n«Η “Ανθολογία βαλκανικής ποίησης”\, ένας δίαυλος επικοινωνίας μεταξύ των βαλκανικών λαών» \n19:00-20:00 Συζήτηση\, ερωτήσεις\, τοποθετήσεις \nΣυντονίζει η Κατερίνα Λαμπρινού\, πολιτική επιστήμονας \nΑπό τις 17:00 έως τις 21:00 Παζάρι περιοδικών-βιβλίων\, καφές\, κρασί \nΕπισυνάπτεται εδώ το δελτίο τύπου και ο σύνδεσμος για το event στο Facebook εδώ. \n«Χρήστος Παπουτσάκης\, μονοκοντυλιά του Τάσου Αναστασίου με αφορμή την εκδήλωση της 30ης Μαρτίου 2019»\n
URL:http://periodiko-anti.gr/event/ekdilwsi-mnimis-gia-ton-xristo-papoutaski/
ATTACH;FMTTYPE=image/png:http://periodiko-anti.gr/wp-content/uploads/2019/03/30-03-Η-ΠΡΟΣΚΛΗΣΗ.png
END:VEVENT
END:VCALENDAR